BEGIN:VCALENDAR
VERSION:2.0
PRODID:-//wp-events-plugin.com//7.2.3.1//EN
TZID:Europe/London
X-WR-TIMEZONE:Europe/London
BEGIN:VEVENT
UID:175@darlingtonrefugees.org
DTSTART;TZID=Europe/London:20260425T184500
DTEND;TZID=Europe/London:20260425T210000
DTSTAMP:20260331T135854Z
URL:https://darlingtonrefugees.org/events/quiz-night/
SUMMARY:Quiz Night
DESCRIPTION:Join in this fun night of trivia\, good company and prizes and 
 help raise money for DAR! Book your tickets via the trybooking.com website
 .
ATTACH;FMTTYPE=image/jpeg:https://darlingtonrefugees.org/wp-content/upload
 s/2026/03/dar-quiz-night-2026.png
LOCATION:St Augustine's Parish Centre\, Larchfield Street\, Darlington\, DL
 3 7TG\, United Kingdom
X-APPLE-STRUCTURED-LOCATION;VALUE=URI;X-ADDRESS=Larchfield Street\, Darling
 ton\, DL3 7TG\, United Kingdom;X-APPLE-RADIUS=100;X-TITLE=St Augustine's P
 arish Centre:geo:0,0
END:VEVENT
BEGIN:VTIMEZONE
TZID:Europe/London
X-LIC-LOCATION:Europe/London
BEGIN:DAYLIGHT
DTSTART:20260329T020000
TZOFFSETFROM:+0000
TZOFFSETTO:+0100
TZNAME:BST
END:DAYLIGHT
END:VTIMEZONE
END:VCALENDAR